BEGIN:VCALENDAR
VERSION:2.0
PRODID:-//LiCEND - ECPv4.6.23//NONSGML v1.0//EN
CALSCALE:GREGORIAN
METHOD:PUBLISH
X-WR-CALNAME:LiCEND
X-ORIGINAL-URL:http://licend.fr
X-WR-CALDESC:Évènements pour LiCEND
BEGIN:VEVENT
DTSTART;TZID=Europe/Paris:20190516T183000
DTEND;TZID=Europe/Paris:20190516T193000
DTSTAMP:20260424T224205
CREATED:20190306T155752Z
LAST-MODIFIED:20190306T155852Z
UID:2566-1558031400-1558035000@licend.fr
SUMMARY:Conférence Grand Public: Prendre soin de son COEUR\, un des secrets d'un CERVEAU en pleine forme - Pr Philippe Amouyel
DESCRIPTION: \n
URL:http://licend.fr/event/conference-grand-public-prendre-soin-de-son-coeur-un-des-secrets-dun-cerveau-en-pleine-forme-pr-philippe-amouyel/
LOCATION:Faculté de Médecine de Lille -Pôle formation\, Loos\, France
CATEGORIES:Conférence
ATTACH;FMTTYPE=image/png:http://licend.fr/wp-content/uploads/2019/03/Conf-PrAmouyel-16-mai.png
END:VEVENT
END:VCALENDAR